BEGIN:VCALENDAR
VERSION:2.0
PRODID:-//wp-events-plugin.com//7.2.3.1//EN
BEGIN:VEVENT
UID:454@euchems.eu
DTSTART:20261013T230000Z
DTEND:20261015T230000Z
DTSTAMP:20260418T135425Z
URL:https://www.euchems.eu/events/xviii-food-chemistry-meeting/
SUMMARY:XVIII Food Chemistry Meeting
DESCRIPTION:The XVIII EQA 2026 (18th Meeting on Food Chemistry) is a nation
 al scientific conference dedicated to Food Chemistry\, bringing together r
 esearchers from universities\, polytechnic institutes\, research centres\,
  industry\, and regulatory bodies. The event continues a tradition begun i
 n 1993\, promoting dialogue between academia and the applied sectors in fo
 od science.
ATTACH;FMTTYPE=image/jpeg:https://i0.wp.com/www.euchems.eu/wp-content/uplo
 ads/2026/04/Captura-de-ecra-2026-04-10-102554.png?fit=541%2C267&ssl=1
CATEGORIES:Meetings
LOCATION:Coimbra\, Portugal\, Convento de S. Francisco\, Avenida da Guarda 
 Inglesa\, nº 1A\, Coimbra\, 3040-193\, Portugal
GEO:40.203438;-8.435968
X-APPLE-STRUCTURED-LOCATION;VALUE=URI;X-ADDRESS=Convento de S. Francisco\, 
 Avenida da Guarda Inglesa\, nº 1A\, Coimbra\, 3040-193\, Portugal;X-APPLE
 -RADIUS=100;X-TITLE=Coimbra\, Portugal:geo:40.203438,-8.435968
END:VEVENT
END:VCALENDAR