BEGIN:VCALENDAR
VERSION:2.0
PRODID:-//wp-events-plugin.com//7.2.3.1//EN
BEGIN:VEVENT
UID:440@euchems.eu
DTSTART:20260609T230000Z
DTEND:20260611T230000Z
DTSTAMP:20260308T072003Z
URL:https://www.euchems.eu/events/xvii-international-school-on-organometal
 lic-chemistry-marcial-moreno-manas/
SUMMARY:XVII International School on Organometallic Chemistry Marcial Moren
 o Mañas
DESCRIPTION:The XVII International School on Organometallic Chemistry “Ma
 rcial Moreno Mañas”\, which will take place from June 10th to 12th\, 20
 26\, in Zaragoza\, Spain. The School is organized by the ORFEO-CINQA Netwo
 rk (https://orfeocinqa.es/) and continues its strong tradition of fosterin
 g knowledge exchange and collaboration in the field of organometallic chem
 istry. The event is open to all chemists and especially aims to bring toge
 ther young students\, early career researchers\, and world-leading scienti
 sts in a welcoming and dynamic atmosphere. Through meaningful scientific i
 nteraction\, the School encourages the development of ideas\, dialogue bet
 ween generations\, and new research collaborations.\nThe 2026 program will
  feature 7 plenary lectures by internationally renowned experts \, as well
  as a large number of oral\, flash presentations and posters. These presen
 tations will be selected from the submitted abstracts\, offering participa
 nts an excellent opportunity to showcase their work and connect with the b
 roader community. The confirmed plenary speakers for this eddition are:\n-
  Alicia Casitas (Philipps-Universität Marburg\, Germany)\n- Nicolai Crame
 r (EPFL Lausanne\, Switzerland)\n- Sjoerd Harder (Friedrich-Alexander-Univ
 ersität\, Erlangen\, Germany)\n- John Hartwig (University of California\,
  Berkeley\, USA)\n- Tianning Diao (New York University\, USA)\n- Jennifer 
 Schomaker (University of Wisconsin-Madison\, USA)\n- Oliver Wenger (Univer
 sität Basel\, Switzerland)
ATTACH;FMTTYPE=image/jpeg:https://i0.wp.com/www.euchems.eu/wp-content/uplo
 ads/2026/03/17ISOCMMM.png?fit=3927%2C1029&ssl=1
CATEGORIES:Summer/Winter Schools
LOCATION:Zaragoza\, Spain\, Universidad de Zaragoza\, Zaragoza\, 50009\, Sp
 ain
GEO:41.642064;-0.901507
X-APPLE-STRUCTURED-LOCATION;VALUE=URI;X-ADDRESS=Universidad de Zaragoza\, Z
 aragoza\, 50009\, Spain;X-APPLE-RADIUS=100;X-TITLE=Zaragoza\, Spain:geo:41
 .642064,-0.901507
END:VEVENT
END:VCALENDAR