BEGIN:VCALENDAR
VERSION:2.0
PRODID:-//wp-events-plugin.com//7.2.3.1//EN
BEGIN:VEVENT
UID:449@euchems.eu
DTSTART:20260714T230000Z
DTEND:20260716T230000Z
DTSTAMP:20260329T182919Z
URL:https://www.euchems.eu/events/xv-spanish-italian-symposium-on-organic-
 chemistry/
SUMMARY:XV Spanish–Italian Symposium on Organic Chemistry
DESCRIPTION:The symposium is part of a long-standing series of biennial Spa
 nish–Italian conferences promoted by the Organic Chemistry Division of t
 he Spanish Royal Society of Chemistry and the Italian Chemical Society. It
 s main objective is to foster scientific exchange between leading research
 ers from both countries\, promoting interaction\, collaboration\, and the 
 creation of new research networks that contribute to the advancement of or
 ganic chemistry.\nThe scientific programme features:\nOpening Lecture by T
 omás Torres.\nKeynote Lectues by Marco Bandini\; Jordi Burés\; Stefano D
 i Stefano\; Martín Fañanás\; Silvia Giordani\; Renzo Luisi\; Carme Rovi
 ra\; Alex Shafir\; Alba Silipo\; Mariola Tortosa.\nInvited Lectures by Pab
 lo Barrio\; José Berrocal\; Walter Cabri\; Massimo Calamante\; Romén Car
 rillo\; Alessia Ciogli\; Xavier Companyó\; Giacomo Crisenza\; Pietro Di P
 rofio\; Allegra Franchino\; Ignacio Funes\; Silvia Gazzola\; Francesco Gia
 calone\; Alberto Martínez-Cuerva\; Sarah Mazzotta\; Alba Millán Delgado\
 ; Javier Montenegro\; Félix Rodríguez.
ATTACH;FMTTYPE=image/jpeg:https://i0.wp.com/www.euchems.eu/wp-content/uplo
 ads/2026/03/sisoc.png?fit=1513%2C565&ssl=1
CATEGORIES:Meetings,Symposium
LOCATION:Sevilla\, Spain\, Profesor García González 1\, Sevilla\, 41012\,
  Spain
GEO:37.360669;-5.987509
X-APPLE-STRUCTURED-LOCATION;VALUE=URI;X-ADDRESS=Profesor García González 
 1\, Sevilla\, 41012\, Spain;X-APPLE-RADIUS=100;X-TITLE=Sevilla\, Spain:geo
 :37.360669,-5.987509
END:VEVENT
END:VCALENDAR