BEGIN:VCALENDAR
VERSION:2.0
PRODID:-//wp-events-plugin.com//7.2.3.1//EN
BEGIN:VEVENT
UID:13@euchems.eu
DTSTART:20150929T100000Z
DTEND:20150929T113000Z
DTSTAMP:20150927T184732Z
URL:https://www.euchems.eu/events/the-chemist-towards-europe-and-the-world
 -rosangela-marchelli-molecular-secrets-of-the-italian-gastronomy/
SUMMARY:The Chemist Towards Europe and the World - Rosangela Marchelli\, Mo
 lecular secrets of the Italian Gastronomy
DESCRIPTION:
CATEGORIES:Conferences
LOCATION:EU Pavilion\, Expo 2015\, Milan\, Italy
GEO:45.5188206;9.107428600000048
X-APPLE-STRUCTURED-LOCATION;VALUE=URI;X-ADDRESS=Expo 2015\, Milan\, Italy;X
 -APPLE-RADIUS=100;X-TITLE=EU Pavilion:geo:45.5188206,9.107428600000048
END:VEVENT
END:VCALENDAR