BEGIN:VCALENDAR
VERSION:2.0
PRODID:-//wp-events-plugin.com//7.2.3.1//EN
BEGIN:VEVENT
UID:90@euchems.eu
DTSTART;VALUE=DATE:20180630
DTEND;VALUE=DATE:20180705
DTSTAMP:20170724T101119Z
URL:https://www.euchems.eu/events/scf18-2018-congress-societe-chimique-de-
 france/
SUMMARY:SCF18 - 2018 Congress of the Société Chimique de France
DESCRIPTION:
CATEGORIES:Conferences
LOCATION:Montpellier et Toulouse\, Corum - Esplanade Charles De Gaulle\, Mo
 ntpellier\, 34000\, France
GEO:43.6110805;3.88175810000007
X-APPLE-STRUCTURED-LOCATION;VALUE=URI;X-ADDRESS=Corum - Esplanade Charles D
 e Gaulle\, Montpellier\, 34000\, France;X-APPLE-RADIUS=100;X-TITLE=Montpel
 lier et Toulouse:geo:43.6110805,3.88175810000007
END:VEVENT
END:VCALENDAR