BEGIN:VCALENDAR
VERSION:2.0
PRODID:-//wp-events-plugin.com//7.2.3.1//EN
BEGIN:VEVENT
UID:229@euchems.eu
DTSTART;TZID=Europe/Brussels;VALUE=DATE:20230626
DTEND;TZID=Europe/Brussels;VALUE=DATE:20230629
DTSTAMP:20221121T110221Z
URL:https://www.euchems.eu/events/scf-2023-congress/
SUMMARY:SCF 2023 Congress
DESCRIPTION:This three-yearly scientific meeting held under the patronage o
 f the French Chemical Society will start with a week-end for the general p
 ublic (June 24-25)\, in the Museum of Nantes with a topic dedicated to Che
 mistry in relation with Light and Color. During the three following days (
 June 26-28)\, the congress will welcome at the Cité des Congrès de Nante
 s 40 guest speakers\, 300 oral communications and two poster sessions. SCF
  2023 will also host the SCF awards ceremony\, including the  Joseph-Ach
 ille Le Bel\, Félix Trombe and Pierre Süe national SCF Grand Prix and t
 hree binational awards (with Germany\, Spain and Portugal).\n\nWe hope t
 hat SCF 2023 will give high opportunity for stimulating discussions and ne
 w collaborations between academic and industrial experts\, students and pr
 ofessionals.
ATTACH;FMTTYPE=image/jpeg:https://i0.wp.com/www.euchems.eu/wp-content/uplo
 ads/2021/01/scf-2023.jpg?fit=1463%2C581&ssl=1
CATEGORIES:Congresses
LOCATION:Cité des congrès de Nantes\, 5 Rue de Valmy\, Nantes\, 4400\, Fr
 ance
GEO:47.213007;-1.542461
X-APPLE-STRUCTURED-LOCATION;VALUE=URI;X-ADDRESS=5 Rue de Valmy\, Nantes\, 4
 400\, France;X-APPLE-RADIUS=100;X-TITLE=Cité des congrès de Nantes:geo:4
 7.213007,-1.542461
END:VEVENT
BEGIN:VTIMEZONE
TZID:Europe/Brussels
X-LIC-LOCATION:Europe/Brussels
BEGIN:DAYLIGHT
DTSTART:20230326T030000
TZOFFSETFROM:+0100
TZOFFSETTO:+0200
TZNAME:CEST
END:DAYLIGHT
END:VTIMEZONE
END:VCALENDAR