BEGIN:VCALENDAR
VERSION:2.0
PRODID:-//wp-events-plugin.com//7.2.3.1//EN
BEGIN:VEVENT
UID:309@euchems.eu
DTSTART;VALUE=DATE:20230522
DTEND;VALUE=DATE:20230524
DTSTAMP:20230203T123726Z
URL:https://www.euchems.eu/events/next-chem-innovative-cross-sectoral-tech
 nologies-exploratory-workshop/
SUMMARY:NeXT-Chem: Innovative cross-sectoral technologies Exploratory Works
 hop
DESCRIPTION:\n\n\nAs a trusted partner of the the Romanian Society for Chem
 istry (SChR)\, the National Institute for Research &amp\; Development in C
 hemistry and Petrochemistry ICECHIM Bucharest is dedicated to equipping yo
 ung researchers with the skills they need to take the lead in Europe’s t
 hriving chemical science\, engineering and technology community.\nICECHIM 
 facilitates regular research community meetings to foster networking with 
 the aim of building professional development and collaboration\, and promo
 tes equitable services for young researchers. This includes strengthening 
 relationships with partners\, identifying and addressing new ways of worki
 ng together\, to support research&amp\;development&amp\;innovation in chem
 istry\, including implementation of equitable and best practices\, and con
 tinued communication strategies.\nThe NeXT-Chem: Innovative cross-sectoral
  technologies Exploratory Workshop features 2 sections\, namely MTCH - Mul
 tifunctional materials\, nanocomposites\, innovative technologies and cult
 ural heritage preservation and BBB - Bioresources\, biotechnologies and bi
 orefining.\n\n\n
ATTACH;FMTTYPE=image/jpeg:https://i0.wp.com/www.euchems.eu/wp-content/uplo
 ads/2023/02/NeXT-Chem-5_FB-settings.png?fit=1528%2C1080&ssl=1
CATEGORIES:Conferences
LOCATION:Romania\, 202 Splaiul Independenței\, district 6\, 060021\, Bucha
 rest\, Romania \, Bucharest\, Romania
GEO:44.440388;26.067587
X-APPLE-STRUCTURED-LOCATION;VALUE=URI;X-ADDRESS=202 Splaiul Independenței\
 , district 6\, 060021\, Bucharest\, Romania \, Bucharest\, Romania;X-APPLE
 -RADIUS=100;X-TITLE=Romania:geo:44.440388,26.067587
END:VEVENT
END:VCALENDAR