BEGIN:VCALENDAR
VERSION:2.0
PRODID:-//wp-events-plugin.com//7.2.3.1//EN
BEGIN:VEVENT
UID:139@euchems.eu
DTSTART;VALUE=DATE:20190701
DTEND;VALUE=DATE:20190706
DTSTAMP:20181029T130420Z
URL:https://www.euchems.eu/events/international-summer-school-on-natural-p
 roducts-issnp/
SUMMARY:International Summer School on Natural Products (ISSNP)
DESCRIPTION:
CATEGORIES:Summer/Winter Schools
LOCATION:University of Napoli "Federico II"\, CESTEV\, via D. Montesano\, N
 aples\, Italy
GEO:40.8648431;14.221416699999963
X-APPLE-STRUCTURED-LOCATION;VALUE=URI;X-ADDRESS=via D. Montesano\, Naples\,
  Italy;X-APPLE-RADIUS=100;X-TITLE=University of Napoli \"Federico II\"\, C
 ESTEV:geo:40.8648431,14.221416699999963
END:VEVENT
END:VCALENDAR