BEGIN:VCALENDAR
VERSION:2.0
PRODID:-//wp-events-plugin.com//7.2.3.1//EN
BEGIN:VEVENT
UID:448@euchems.eu
DTSTART:20260524T230000Z
DTEND:20260525T230000Z
DTSTAMP:20260331T122250Z
URL:https://www.euchems.eu/events/exploratory-workshop-next-chem-innovativ
 e-cross-sectoral-technologies/
SUMMARY:Exploratory Workshop NeXT-Chem INNOVATIVE CROSS-SECTORAL TECHNOLOGI
 ES
DESCRIPTION:The National Institute for Research and Development in Chemistr
 y and Petrochemistry – ICECHIM Bucharest invites Master’s students\, P
 hD candidates and postdoctoral researchers (up to 5 years after PhD gradua
 tion) to participate in the 8th edition of the Exploratory Workshop “NeX
 T-Chem: Trans-sectorial Innovative Technologies”\, taking place on May 2
 5–26\, 2026\, in a hybrid format (on-site &amp\; online)\, under the hig
 h patronage of the Technical Sciences Academy of Romania.
ATTACH;FMTTYPE=image/jpeg:https://i0.wp.com/www.euchems.eu/wp-content/uplo
 ads/2026/03/Conference-Visuals-_-NeXT-Chem-2026-vers2.png?fit=1414%2C2000&
 ssl=1
CATEGORIES:Workshops
LOCATION:București\, Romania\, Splaiul Independenței nr 202\, București\
 , 060021\, Romania
GEO:44.440244;26.067616
X-APPLE-STRUCTURED-LOCATION;VALUE=URI;X-ADDRESS=Splaiul Independenței nr 2
 02\, București\, 060021\, Romania;X-APPLE-RADIUS=100;X-TITLE=București\,
  Romania:geo:44.440244,26.067616
END:VEVENT
END:VCALENDAR