BEGIN:VCALENDAR
VERSION:2.0
PRODID:-//wp-events-plugin.com//7.2.3.1//EN
BEGIN:VEVENT
UID:162@euchems.eu
DTSTART;VALUE=DATE:20190714
DTEND;VALUE=DATE:20190719
DTSTAMP:20190319T102431Z
URL:https://www.euchems.eu/events/european-symposium-on-organic-chemistry-
 esoc-2019/
SUMMARY:European Symposium on Organic Chemistry (ESOC 2019)
DESCRIPTION:
CATEGORIES:Conferences
LOCATION:Messe Wien\, Messeplatz 1\, Wien\, A-1021\, Belgium
GEO:48.21736019999999;16.407531999999946
X-APPLE-STRUCTURED-LOCATION;VALUE=URI;X-ADDRESS=Messeplatz 1\, Wien\, A-102
 1\, Belgium;X-APPLE-RADIUS=100;X-TITLE=Messe Wien:geo:48.21736019999999,16
 .407531999999946
END:VEVENT
END:VCALENDAR