BEGIN:VCALENDAR
VERSION:2.0
PRODID:-//wp-events-plugin.com//7.2.3.1//EN
BEGIN:VEVENT
UID:2@euchems.eu
DTSTART;VALUE=DATE:20150705
DTEND;VALUE=DATE:20150710
DTSTAMP:20150707T125235Z
URL:https://www.euchems.eu/events/eucomc-xxi-21st-conference-on-organometa
 llic-chemistry/
SUMMARY:EuCOMC XXI - 21st Conference on Organometallic Chemistry
DESCRIPTION:
CATEGORIES:Conferences
LOCATION:Faculty of Natural Sciences\, Mlynská dolina\, 842 15 Bratislava 
 4\, Slovakia\, Bratislava\, Slovakia
GEO:48.1639257;17.07625089999999
X-APPLE-STRUCTURED-LOCATION;VALUE=URI;X-ADDRESS=Mlynská dolina\, 842 15 Br
 atislava 4\, Slovakia\, Bratislava\, Slovakia;X-APPLE-RADIUS=100;X-TITLE=F
 aculty of Natural Sciences:geo:48.1639257,17.07625089999999
END:VEVENT
END:VCALENDAR