BEGIN:VCALENDAR
VERSION:2.0
PRODID:-//wp-events-plugin.com//7.2.3.1//EN
BEGIN:VEVENT
UID:52@euchems.eu
DTSTART;VALUE=DATE:20170925
DTEND;VALUE=DATE:20170927
DTSTAMP:20170717T093414Z
URL:https://www.euchems.eu/events/euchems-executive-board-meeting/
SUMMARY:EuChemS Executive Board Meeting
DESCRIPTION:
CATEGORIES:Meetings
LOCATION:Rome\, Italy\, Rome\, Italy\, Rome\, Italy
GEO:41.9027835;12.496365500000024
X-APPLE-STRUCTURED-LOCATION;VALUE=URI;X-ADDRESS=Rome\, Italy\, Rome\, Italy
 ;X-APPLE-RADIUS=100;X-TITLE=Rome\, Italy:geo:41.9027835,12.496365500000024
END:VEVENT
END:VCALENDAR