BEGIN:VCALENDAR
VERSION:2.0
PRODID:-//wp-events-plugin.com//7.2.3.1//EN
BEGIN:VEVENT
UID:93@euchems.eu
DTSTART;VALUE=DATE:20180824
DTEND;VALUE=DATE:20180826
DTSTAMP:20170905T095842Z
URL:https://www.euchems.eu/events/euchems-executive-board-meeting-4/
SUMMARY:EuChemS Executive Board Meeting
DESCRIPTION:
CATEGORIES:Meetings
LOCATION:Liverpool\, Liverpool\, Liverpool\, United Kingdom
GEO:53.4083714;-2.9915726000000404
X-APPLE-STRUCTURED-LOCATION;VALUE=URI;X-ADDRESS=Liverpool\, Liverpool\, Uni
 ted Kingdom;X-APPLE-RADIUS=100;X-TITLE=Liverpool:geo:53.4083714,-2.9915726
 000000404
END:VEVENT
END:VCALENDAR