BEGIN:VCALENDAR
VERSION:2.0
PRODID:-//wp-events-plugin.com//7.2.3.1//EN
BEGIN:VEVENT
UID:447@euchems.eu
DTSTART:20260518T230000Z
DTEND:20260520T230000Z
DTSTAMP:20260325T165228Z
URL:https://www.euchems.eu/events/ectn-teaching-and-learning-in-stem-summe
 r-schools-question-driven-learning-in-stem-summer-school-2026/
SUMMARY:ECTN Teaching and Learning in STEM Summer Schools: “Question-Driv
 en Learning in STEM” Summer School 2026
DESCRIPTION:Many lecturers in Chemistry and other STEM disciplines (STEM = 
 Science\, Technology\, Engineering\, and Mathematics) are still hesitant t
 o adopt active learning approaches\, such as questioning techniques and co
 llaborative learning\, even though these approaches are already widely acc
 epted as educational goals at many universities. The “Question-Driven Le
 arning in STEM” Summer School will equip participants with the knowledge
  and skills to confidently teach using questioning techniques\, effectivel
 y support collaborative learning among students\, and implement teaching a
 nd learning methods such as POGIL and SCALE-UP.\nFollowing its great succe
 ss last year\, this Summer School in the “Teaching and Learning in Highe
 r Education STEM” series is being organized by the ECTN Eurolecturer Aca
 demy for the second time. The Summer School is a pre-event of the ECTN Gen
 eral Assembly and therefore a special opportunity for ECTN delegates to at
 tend two events in one trip.\nThe “Question-Driven Learning in STEM” S
 ummer School offers a range of inspiring workshops\, collaborative group s
 essions\, and in-depth discussions at both course and curriculum level. Se
 ssions include\, among others\, “Active learning through questioning: wh
 at or why?” and “Diversity and inclusion in question-driven learning
 ”. See the full programme:\nhttps://ectn.eu/work-groups/eurolecturer-aca
 demy/question-driven-learning-summer-school-2026/programme-valencia/
ATTACH;FMTTYPE=image/jpeg:https://i0.wp.com/www.euchems.eu/wp-content/uplo
 ads/2026/03/TL-STEM-SummerSchoolVisual2026.png?fit=635%2C344&ssl=1
CATEGORIES:Summer/Winter Schools
LOCATION:Valencia\, Spain\, Facultad de Química Universidad de Valencia Av
 da. Vicent Andrés Estellés 19\, 46100 Burjassot\, Burjassot\, 46100\, Sp
 ain
GEO:39.507723;-0.419426
X-APPLE-STRUCTURED-LOCATION;VALUE=URI;X-ADDRESS=Facultad de Química Univer
 sidad de Valencia Avda. Vicent Andrés Estellés 19\, 46100 Burjassot\, Bu
 rjassot\, 46100\, Spain;X-APPLE-RADIUS=100;X-TITLE=Valencia\, Spain:geo:39
 .507723,-0.419426
END:VEVENT
END:VCALENDAR