BEGIN:VCALENDAR
VERSION:2.0
PRODID:-//wp-events-plugin.com//7.2.3.1//EN
BEGIN:VEVENT
UID:84@euchems.eu
DTSTART;VALUE=DATE:20180826
DTEND;VALUE=DATE:20180831
DTSTAMP:20170420T070515Z
URL:https://www.euchems.eu/events/ecc7-7th-euchems-chemistry-congress/
SUMMARY:ECC7 - 7th EuChemS Chemistry Congress
DESCRIPTION:
CATEGORIES:Congresses
LOCATION:ACC Liverpool\, ACC Liverpool\, Liverpool\, United Kingdom
GEO:53.3970389;-2.991283899999985
X-APPLE-STRUCTURED-LOCATION;VALUE=URI;X-ADDRESS=ACC Liverpool\, Liverpool\,
  United Kingdom;X-APPLE-RADIUS=100;X-TITLE=ACC Liverpool:geo:53.3970389,-2
 .991283899999985
END:VEVENT
END:VCALENDAR