BEGIN:VCALENDAR
VERSION:2.0
PRODID:-//wp-events-plugin.com//7.2.3.1//EN
BEGIN:VEVENT
UID:61@euchems.eu
DTSTART;VALUE=DATE:20170129
DTEND;VALUE=DATE:20170204
DTSTAMP:20161213T153140Z
URL:https://www.euchems.eu/events/e-wispoc-2017-11th-european-winter-schoo
 l-physical-organic-chemistry/
SUMMARY:e-WISPOC 2017 - 11th European Winter School on Physical Organic Che
 mistry
DESCRIPTION:
CATEGORIES:Summer/Winter Schools
LOCATION:Hotel Gruener Baum\, Bressanone  - Italy\, Hotel Gruener Baum\, Br
 essanone  \, Italy
GEO:46.7177048;11.657243600000015
X-APPLE-STRUCTURED-LOCATION;VALUE=URI;X-ADDRESS=Hotel Gruener Baum\, Bressa
 none  \, Italy;X-APPLE-RADIUS=100;X-TITLE=Hotel Gruener Baum\, Bressanone 
  - Italy:geo:46.7177048,11.657243600000015
END:VEVENT
END:VCALENDAR