BEGIN:VCALENDAR
VERSION:2.0
PRODID:-//wp-events-plugin.com//7.2.3.1//EN
BEGIN:VEVENT
UID:157@euchems.eu
DTSTART;VALUE=DATE:20190828
DTEND;VALUE=DATE:20190831
DTSTAMP:20190225T144650Z
URL:https://www.euchems.eu/events/chemistry-meets-industry-and-society-a-c
 reative-showcase-conference/
SUMMARY:Chemistry meets Industry and Society. A creative showcase conferenc
 e
DESCRIPTION:
CATEGORIES:Conferences
LOCATION:Grand Hotel Salerno\, Lungomare Clemente Tafuri\, Salerno\, Italy
GEO:40.6720668;14.775568700000008
X-APPLE-STRUCTURED-LOCATION;VALUE=URI;X-ADDRESS=Lungomare Clemente Tafuri\,
  Salerno\, Italy;X-APPLE-RADIUS=100;X-TITLE=Grand Hotel Salerno:geo:40.672
 0668,14.775568700000008
END:VEVENT
END:VCALENDAR