BEGIN:VCALENDAR
VERSION:2.0
PRODID:-//wp-events-plugin.com//7.2.3.1//EN
BEGIN:VEVENT
UID:121@euchems.eu
DTSTART;VALUE=DATE:20180703
DTEND;VALUE=DATE:20180709
DTSTAMP:20180511T103207Z
URL:https://www.euchems.eu/events/5th-international-congress-on-chemistry-
 for-cultural-heritage-chemch-2018/
SUMMARY:5th International Congress on Chemistry for Cultural Heritage (Chem
 CH 2018)
DESCRIPTION:
CATEGORIES:Conferences
LOCATION:Central University Library of Bucharest\,  Boteanu Street no. 1\, 
 sector 1\, Bucharest\, Romania
GEO:44.43939;26.098176999999964
X-APPLE-STRUCTURED-LOCATION;VALUE=URI;X-ADDRESS= Boteanu Street no. 1\, sec
 tor 1\, Bucharest\, Romania;X-APPLE-RADIUS=100;X-TITLE=Central University 
 Library of Bucharest:geo:44.43939,26.098176999999964
END:VEVENT
END:VCALENDAR