BEGIN:VCALENDAR
VERSION:2.0
PRODID:-//wp-events-plugin.com//7.2.3.1//EN
BEGIN:VEVENT
UID:427@euchems.eu
DTSTART:20260613T230000Z
DTEND:20260617T230000Z
DTSTAMP:20251112T153738Z
URL:https://www.euchems.eu/events/50th-attilio-corbella-international-summ
 er-school-on-organic-synthesis/
SUMMARY:50th "Attilio Corbella" International Summer School on Organic Synt
 hesis
DESCRIPTION:The “A. Corbella” School on Organic Synthesis has a long tr
 adition\, which dates back to 1976. Named after its cofounder Attilio Corb
 ella\, who died prematurely in 1978\, the School is sponsored by the Divis
 ion of Organic Chemistry of Società Chimica Italiana (SCI) and organized 
 under the direction of the Department of Chemistry of the Università degl
 i Studi di Milano\, every year in June in Gargnano\, a small village on Ga
 rda Lake.\nSince its foundation\, the School has been held in “Palazzo F
 eltrinelli”\, a XIX century villa overlooking the lake which is property
  of the Università degli Studi di Milano and is equipped with teaching fa
 cilities for up to 150 participants.\nThe School is mainly directed to Ph.
 D. students and young researchers coming both from University and Industry
 . It normally attracts close to 100 students\, including the best graduate
  students from all the main Italian and European Universities.\nThe lectur
 es span all aspects of modern synthetic Organic Chemistry and focus on res
 earch topics at the cutting-edge of organic chemistry and related areas\, 
 such as analytical chemistry\, materials\, innovative enabling technologie
 s.
ATTACH;FMTTYPE=image/jpeg:https://i0.wp.com/www.euchems.eu/wp-content/uplo
 ads/2025/11/Screenshot-2025-11-12-at-16.34.12.png?fit=2671%2C679&ssl=1
LOCATION:Italy\, Via Roma 45\, Gargnano (BS)\, 25084\, Italy\, Gargnano\, 2
 5084\, Italy
GEO:45.687694;10.661348
X-APPLE-STRUCTURED-LOCATION;VALUE=URI;X-ADDRESS=Via Roma 45\, Gargnano (BS)
 \, 25084\, Italy\, Gargnano\, 25084\, Italy;X-APPLE-RADIUS=100;X-TITLE=Ita
 ly:geo:45.687694,10.661348
END:VEVENT
END:VCALENDAR