BEGIN:VCALENDAR
VERSION:2.0
PRODID:-//wp-events-plugin.com//7.2.3.1//EN
BEGIN:VEVENT
UID:166@euchems.eu
DTSTART;VALUE=DATE:20190922
DTEND;VALUE=DATE:20190926
DTSTAMP:20190502T154554Z
URL:https://www.euchems.eu/events/4th-euchems-conference-on-green-and-sust
 ainable-chemistry-eugsc-4/
SUMMARY:4th EuCheMS Conference on Green and Sustainable Chemistry (EUGSC-4)
DESCRIPTION:
CATEGORIES:Conferences
LOCATION:Institut Català d’Investigació Química (ICIQ)\, Av. Països C
 atalans\, 16\, Tarragona\, 43007\, Spain
GEO:41.1303019;1.2434534000000212
X-APPLE-STRUCTURED-LOCATION;VALUE=URI;X-ADDRESS=Av. Països Catalans\, 16\,
  Tarragona\, 43007\, Spain;X-APPLE-RADIUS=100;X-TITLE=Institut Català d
 ’Investigació Química (ICIQ):geo:41.1303019,1.2434534000000212
END:VEVENT
END:VCALENDAR