BEGIN:VCALENDAR
VERSION:2.0
PRODID:-//wp-events-plugin.com//7.2.3.1//EN
BEGIN:VEVENT
UID:413@euchems.eu
DTSTART:20260516T230000Z
DTEND:20260521T230000Z
DTSTAMP:20250717T075132Z
URL:https://www.euchems.eu/events/44th-international-symposium-on-capillar
 y-chromatography-and-21st-gcxgc-symposium/
SUMMARY:44th International Symposium on Capillary Chromatography and 21st G
 CxGC Symposium
DESCRIPTION:The 44th International Symposium on Capillary Chromatography (I
 SCC)\, the premier meeting for pressure and electrodriven microcolumn sepa
 rations and related techniques\, will be held May 17 – 22\, 2026 in the 
 Congress Centre\, Riva del Garda\, Italy.\n\nThe program will include plen
 ary lectures\, keynote lectures by young scientists\, prominently featured
  poster presentations\, an instrument exhibition displaying the latest ins
 trumental innovations\, and a highly attractive social program offering op
 portunities to meet with world-renown scientists.\n\nThe 21st GCxGC Sympos
 ium will be organized jointly with the ISCC meeting to allow scientists to
  attend both meetings. The symposium will start with a short course on Sun
 day May 17 covering the fundamentals and applications of comprehensive GCx
 GC and with a plenary session on Monday May 18. Key-note lectures and post
 ers will be included in the program of the ISCC meeting.
ATTACH;FMTTYPE=image/jpeg:https://i0.wp.com/www.euchems.eu/wp-content/uplo
 ads/2025/07/Screenshot-2025-07-17-at-09.50.24.png?fit=1215%2C625&ssl=1
LOCATION:Italy\, Centro Congressi Riva del Garda\, Parco Lido\, 1 Riva del 
 Garda TN\, 38066\, Italy\, Riva del Garda\, 15782\, Italy
GEO:45.889317;10.843111
X-APPLE-STRUCTURED-LOCATION;VALUE=URI;X-ADDRESS=Centro Congressi Riva del G
 arda\, Parco Lido\, 1 Riva del Garda TN\, 38066\, Italy\, Riva del Garda\,
  15782\, Italy;X-APPLE-RADIUS=100;X-TITLE=Italy:geo:45.889317,10.843111
END:VEVENT
END:VCALENDAR