BEGIN:VCALENDAR
VERSION:2.0
PRODID:-//wp-events-plugin.com//7.2.3.1//EN
BEGIN:VEVENT
UID:312@euchems.eu
DTSTART;VALUE=DATE:20230718
DTEND;VALUE=DATE:20230722
DTSTAMP:20230223T130129Z
URL:https://www.euchems.eu/events/25th-international-symposium-on-advances
 -in-extraction-technologies-extech2023/
SUMMARY:25th International Symposium on Advances in Extraction Technologies
  (ExTech2023)
DESCRIPTION:\n\n\n ExTech is the most important event series in the growin
 g fields of sample preparation\, extraction technologies\, and sample clea
 n-up techniques. The idea of creating this worldwide conference started in
  1999 by Professor Janusz Pawliszyn (University of Waterloo\, Canada). Sin
 ce then\, the symposium has been annually held in different cities around 
 the world. This year that corresponds with the 25th edition\, ExTech2023 w
 ill be held in Tenerife (Canary Islands\, Spain) from 18th to 21st of July
  2023.\n\nThe ExTech2023 program will highlight a wide range of technologi
 es based on analytical separations\, covering recent improvements in analy
 tical (micro)extraction\, sample preparation techniques\, and their hyphen
 ation with chromatography\, mass spectrometry and related techniques. Plea
 se\, visit our website to see a full list of the topics of the conference:
  extech2023.ull.es/about.htm\nThe symposium is structured in four consecut
 ive days starting with a full-day course on Green Sample Preparation. This
  course if followed by three days of conference with plenary lectures\, ke
 ynote lectures\, oral communications (for both young and senior scholars)\
 , and vendor seminars. Professor Janusz Pawliszyn (University of Waterloo\
 , Canada)\, Professor Stig Pedersen-Bjergaard (University of Oslo\, Norway
 )\, Professor Jared L. Anderson (Iowa State University\, USA)\, and Profes
 sor Marisol Cárdenas (University of Córdoba\, Spain) are some of the hig
 hly recognized researchers that has confirmed their attendance to the conf
 erence and will present plenary lectures. The full list of confirmed speak
 ers can be found in this link: extech2023.ull.es/speakers.htm.\nIn additio
 n\, poster sessions and vendor exhibitions will be hosted during the whole
  conference.\n\n\n
ATTACH;FMTTYPE=image/jpeg:https://i0.wp.com/www.euchems.eu/wp-content/uplo
 ads/2023/02/extech2023.png?fit=1920%2C1005&ssl=1
CATEGORIES:Congresses
LOCATION:Pirámide de Arona Conference Center\, Pirámide de Arona Conferen
 ce Center\, Cleopatra Palace Hotel\, Mare Nostrum Resort\, Avda. Las Amér
 icas\, S/N\, 38650 Playa de las Américas\, Santa Cruz de Tenerife\, SPAIN
  \, Tenerife\, Spain
GEO:28.05472;-16.731157
X-APPLE-STRUCTURED-LOCATION;VALUE=URI;X-ADDRESS=Pirámide de Arona Conferen
 ce Center\, Cleopatra Palace Hotel\, Mare Nostrum Resort\, Avda. Las Amér
 icas\, S/N\, 38650 Playa de las Américas\, Santa Cruz de Tenerife\, SPAIN
  \, Tenerife\, Spain;X-APPLE-RADIUS=100;X-TITLE=Pirámide de Arona Confere
 nce Center:geo:28.05472,-16.731157
END:VEVENT
END:VCALENDAR