BEGIN:VCALENDAR
VERSION:2.0
PRODID:-//wp-events-plugin.com//7.2.3.1//EN
BEGIN:VEVENT
UID:152@euchems.eu
DTSTART;VALUE=DATE:20190919
DTEND;VALUE=DATE:20190922
DTSTAMP:20190219T101010Z
URL:https://www.euchems.eu/events/13th-students-congress-of-sctm/
SUMMARY:13th Students' Congress of SCTM
DESCRIPTION:
CATEGORIES:Conferences
LOCATION:Faculty of Natural Sciences and Mathematics\, Arhimedova 5\, Skopj
 e\, Macedonia
GEO:42.0012092;21.453393199999937
X-APPLE-STRUCTURED-LOCATION;VALUE=URI;X-ADDRESS=Arhimedova 5\, Skopje\, Mac
 edonia;X-APPLE-RADIUS=100;X-TITLE=Faculty of Natural Sciences and Mathemat
 ics:geo:42.0012092,21.453393199999937
END:VEVENT
END:VCALENDAR