BEGIN:VCALENDAR
VERSION:2.0
PRODID:-//wp-events-plugin.com//7.2.3.1//EN
BEGIN:VEVENT
UID:174@euchems.eu
DTSTART;TZID=Europe/Brussels;VALUE=DATE:20230523
DTEND;TZID=Europe/Brussels;VALUE=DATE:20230527
DTSTAMP:20230307T104209Z
URL:https://www.euchems.eu/events/13th-international-conference-on-the-his
 tory-of-chemistry-13ichc/
SUMMARY:13th International Conference on the History of Chemistry (13ICHC)
DESCRIPTION:13th International Conference on the History of Chemistry (13IC
 HC)\n May 23–26\, 2023\n Vilnius\, Lithuania\n https://www.ichc2023vil
 nius.chgf.vu.lt/\n\nEvery two years the Working Party on History of Chemis
 try (WPHC) of the European Chemical Society (EuChemS) organizes an interna
 tional conference on the history of chemistry\, open to colleagues from al
 l over the world. The 13ICHC in Vilnius will be organised in conjunction w
 ith the Lithuanian-Polish Jędrzej Sniadecki Memorial Conference “Fronti
 ers in Molecular Life Sciences” – JSMC2021 in Vilnius\, in May 23–26
 \, 2023.\n\nThe conference will be hosted by Vilnius University (establish
 ed in 1579)\, in the premises of the old city. The conference program will
  include scientific sessions\, key-note lectures\, the WP business meeting
 \, a poster session (in conjunction with the posters of the conference “
 Frontiers in Molecular Life Sciences”) as well as social events such as 
 excursions\, receptions\, and a conference dinner banquet.\n\n\n\n 	Regist
 ration at the Arkangelo Conference and Art Centre\, Maironio str. 11 on Ma
 y 23\, 2023\n 	Opening at the Ministry of Science\, Education and Sport of
  Lithuania\, A. Volano str. 2 on May 23\, 2023\n 	Registration and Confer
 ence at Center for Physical Sciences and Technology (FTMC)\, Saulėtekio 
 al. 3 on 24–26 May\, 2023\n\n
ATTACH;FMTTYPE=image/jpeg:https://i0.wp.com/www.euchems.eu/wp-content/uplo
 ads/2019/10/ichc.png?fit=936%2C506&ssl=1
CATEGORIES:Conferences
LOCATION:Vilnius and Saulėtekio 3\, A. Volano 2\, Vilnius and Saulėtekio 
 3\, Vilnius\, Vilnius\, Lithuania
GEO:54.723127;25.326698
X-APPLE-STRUCTURED-LOCATION;VALUE=URI;X-ADDRESS=A. Volano 2\, Vilnius and S
 aulėtekio 3\, Vilnius\, Vilnius\, Lithuania;X-APPLE-RADIUS=100;X-TITLE=Vi
 lnius and Saulėtekio 3:geo:54.723127,25.326698
END:VEVENT
BEGIN:VTIMEZONE
TZID:Europe/Brussels
X-LIC-LOCATION:Europe/Brussels
BEGIN:DAYLIGHT
DTSTART:20230326T030000
TZOFFSETFROM:+0100
TZOFFSETTO:+0200
TZNAME:CEST
END:DAYLIGHT
END:VTIMEZONE
END:VCALENDAR